BEGIN:VCALENDAR
PRODID:-//K Desktop Environment//NONSGML libkcal 3.5//EN
VERSION:2.0
BEGIN:VTODO
DTSTAMP:20091029T185030Z
CREATED:20091029T185030Z
UID:libkcal-1783762875.137
LAST-MODIFIED:20091029T185030Z
SUMMARY:Fedora 12
PRIORITY:6
DUE:20091215T230000Z
DTSTART:20090610T040000Z
PERCENT-COMPLETE:-1
END:VTODO

BEGIN:VTODO
DTSTAMP:20091029T185030Z
CREATED:20091029T185030Z
UID:libkcal-120876680.137
LAST-MODIFIED:20091029T185030Z
SUMMARY:Testing Phase
PRIORITY:6
RELATED-TO:libkcal-1783762875.137
DUE:20091104T230000Z
DTSTART:20090728T220000Z
PERCENT-COMPLETE:-1
END:VTODO

BEGIN:VTODO
DTSTAMP:20091029T185030Z
CREATED:20091029T185030Z
UID:libkcal-1947812728.137
LAST-MODIFIED:20091029T185030Z
SUMMARY:Alpha Release
PRIORITY:6
RELATED-TO:libkcal-120876680.137
DUE:20090930T220000Z
DTSTART:20090728T220000Z
COMPLETED:20091029T185030Z
PERCENT-COMPLETE:100
END:VTODO

BEGIN:VTODO
DTSTAMP:20091029T185030Z
CREATED:20091029T185030Z
UID:libkcal-885886382.137
LAST-MODIFIED:20091029T185030Z
SUMMARY:Feature Freeze (no more features accepted)
PRIORITY:6
RELATED-TO:libkcal-1947812728.137
DTSTART:20090728T220000Z
COMPLETED:20091029T185030Z
PERCENT-COMPLETE:100
END:VTODO

BEGIN:VTODO
DTSTAMP:20091029T185030Z
CREATED:20091029T185030Z
UID:libkcal-903134947.137
LAST-MODIFIED:20091029T185030Z
SUMMARY:Alpha Project Wide Release Readiness Meeting
PRIORITY:6
RELATED-TO:libkcal-1947812728.137
DTSTART:20090819T220000Z
COMPLETED:20091029T185030Z
PERCENT-COMPLETE:100
END:VTODO

BEGIN:VTODO
DTSTAMP:20091029T185030Z
CREATED:20091029T185030Z
UID:libkcal-2065074210.137
LAST-MODIFIED:20091029T185030Z
SUMMARY:Alpha Public Availability
PRIORITY:6
RELATED-TO:libkcal-1947812728.137
DTSTART:20090825T220000Z
COMPLETED:20091029T185030Z
PERCENT-COMPLETE:100
END:VTODO

BEGIN:VTODO
DTSTAMP:20091029T185030Z
CREATED:20091029T185030Z
UID:libkcal-285251352.137
LAST-MODIFIED:20091029T185030Z
SUMMARY:Beta Release
PRIORITY:6
RELATED-TO:libkcal-120876680.137
DUE:20091104T230000Z
DTSTART:20090824T220000Z
PERCENT-COMPLETE:-1
END:VTODO

BEGIN:VTODO
DTSTAMP:20091029T185030Z
CREATED:20091029T185030Z
UID:libkcal-708029390.137
LAST-MODIFIED:20091029T185030Z
SUMMARY:Open call for release slogans
PRIORITY:6
RELATED-TO:libkcal-285251352.137
DTSTART:20090910T220000Z
COMPLETED:20091029T185030Z
PERCENT-COMPLETE:100
END:VTODO

BEGIN:VTODO
DTSTAMP:20091029T185030Z
CREATED:20091029T185030Z
UID:libkcal-319205203.138
LAST-MODIFIED:20091029T185030Z
SUMMARY:Announce final release slogan
PRIORITY:6
RELATED-TO:libkcal-285251352.137
DTSTART:20090917T220000Z
COMPLETED:20091029T185030Z
PERCENT-COMPLETE:100
END:VTODO

BEGIN:VTODO
DTSTAMP:20091029T185030Z
CREATED:20091029T185030Z
UID:libkcal-1835180588.138
LAST-MODIFIED:20091029T185030Z
SUMMARY:Final (Beta) Freeze: Development Code Complete
PRIORITY:6
RELATED-TO:libkcal-285251352.137
DTSTART:20090929T220000Z
COMPLETED:20091029T185030Z
PERCENT-COMPLETE:100
END:VTODO

BEGIN:VTODO
DTSTAMP:20091029T185030Z
CREATED:20091029T185030Z
UID:libkcal-931472280.138
LAST-MODIFIED:20091029T185030Z
SUMMARY:Beta Project Wide Release Readiness Meeting
PRIORITY:6
RELATED-TO:libkcal-285251352.137
DTSTART:20091014T220000Z
COMPLETED:20091029T185030Z
PERCENT-COMPLETE:100
END:VTODO

BEGIN:VTODO
DTSTAMP:20091029T185030Z
CREATED:20091029T185030Z
UID:libkcal-155120286.138
LAST-MODIFIED:20091029T185030Z
SUMMARY:Beta Release Public Availability
PRIORITY:6
RELATED-TO:libkcal-285251352.137
DTSTART:20091020T220000Z
COMPLETED:20091029T185030Z
PERCENT-COMPLETE:100
END:VTODO

BEGIN:VTODO
DTSTAMP:20091029T185030Z
CREATED:20091029T185030Z
UID:libkcal-1040051142.138
LAST-MODIFIED:20091029T185030Z
SUMMARY:Start One-page Release Notes: Docs & Marketing
PRIORITY:6
RELATED-TO:libkcal-285251352.137
DTSTART:20091020T220000Z
COMPLETED:20091029T185030Z
PERCENT-COMPLETE:100
END:VTODO

BEGIN:VTODO
DTSTAMP:20091029T185030Z
CREATED:20091029T185030Z
UID:libkcal-382527953.138
LAST-MODIFIED:20091029T185030Z
SUMMARY:Launch Phase
PRIORITY:6
RELATED-TO:libkcal-1783762875.137
DUE:20091215T230000Z
DTSTART:20091020T220000Z
PERCENT-COMPLETE:-1
END:VTODO

BEGIN:VTODO
DTSTAMP:20091029T185030Z
CREATED:20091029T185030Z
UID:libkcal-567122453.138
LAST-MODIFIED:20091029T185030Z
SUMMARY:Release Candidate
PRIORITY:6
RELATED-TO:libkcal-382527953.138
DUE:20091118T230000Z
DTSTART:20091020T220000Z
PERCENT-COMPLETE:-1
END:VTODO

BEGIN:VTODO
DTSTAMP:20091029T185030Z
CREATED:20091029T185030Z
UID:libkcal-1740907306.138
LAST-MODIFIED:20091029T185030Z
SUMMARY:F12 Project Wide Release Readiness Meeting
PRIORITY:6
RELATED-TO:libkcal-567122453.138
DTSTART:20091111T230000Z
PERCENT-COMPLETE:0
END:VTODO

BEGIN:VTODO
DTSTAMP:20091029T185030Z
CREATED:20091029T185030Z
UID:libkcal-185980166.139
LAST-MODIFIED:20091029T185030Z
SUMMARY:Freeze Fedora tour page
PRIORITY:6
RELATED-TO:libkcal-382527953.138
DTSTART:20091104T230000Z
PERCENT-COMPLETE:0
END:VTODO

BEGIN:VTODO
DTSTAMP:20091029T185030Z
CREATED:20091029T185030Z
UID:libkcal-10572429.139
LAST-MODIFIED:20091029T185030Z
SUMMARY:GA Release
PRIORITY:6
RELATED-TO:libkcal-382527953.138
DTSTART:20091117T230000Z
PERCENT-COMPLETE:0
END:VTODO

BEGIN:VEVENT
DTSTAMP:20091029T185030Z
ORGANIZER;CN=Program Management Organization:MAILTO:
 program-management@example.com
CREATED:20091029T185030Z
UID:libkcal-1690934453.138
LAST-MODIFIED:20091029T185030Z
SUMMARY:Beta Project Wide Release Readiness Meeting
PRIORITY:6
DTSTART:20091014
DTEND:20091015
X-MICROSOFT-CDO-ALLDAYEVENT:TRUE
TRANSP:TRANSPARENT
END:VEVENT

BEGIN:VEVENT
DTSTAMP:20091029T185030Z
ORGANIZER;CN=Program Management Organization:MAILTO:
 program-management@example.com
CREATED:20091029T185030Z
UID:libkcal-1187740058.137
LAST-MODIFIED:20091029T185030Z
SUMMARY:Feature Freeze (no more features accepted)
PRIORITY:6
DTSTART:20090728
DTEND:20090729
X-MICROSOFT-CDO-ALLDAYEVENT:TRUE
TRANSP:TRANSPARENT
END:VEVENT

BEGIN:VEVENT
DTSTAMP:20091029T185030Z
ORGANIZER;CN=Program Management Organization:MAILTO:
 program-management@example.com
CREATED:20091029T185030Z
UID:libkcal-832300701.139
LAST-MODIFIED:20091029T185030Z
SUMMARY:Freeze Fedora tour page
PRIORITY:6
DTSTART:20091104
DTEND:20091105
X-MICROSOFT-CDO-ALLDAYEVENT:TRUE
TRANSP:TRANSPARENT
END:VEVENT

BEGIN:VEVENT
DTSTAMP:20091029T185030Z
ORGANIZER;CN=Program Management Organization:MAILTO:
 program-management@example.com
CREATED:20091029T185030Z
UID:libkcal-1148666136.138
LAST-MODIFIED:20091029T185030Z
SUMMARY:Start One-page Release Notes: Docs & Marketing
PRIORITY:6
DTSTART:20091020
DTEND:20091021
X-MICROSOFT-CDO-ALLDAYEVENT:TRUE
TRANSP:TRANSPARENT
END:VEVENT

BEGIN:VEVENT
DTSTAMP:20091029T185030Z
ORGANIZER;CN=Program Management Organization:MAILTO:
 program-management@example.com
CREATED:20091029T185030Z
UID:libkcal-738093192.138
LAST-MODIFIED:20091029T185030Z
SUMMARY:Open call for release slogans
PRIORITY:6
DTSTART:20090910
DTEND:20090911
X-MICROSOFT-CDO-ALLDAYEVENT:TRUE
TRANSP:TRANSPARENT
END:VEVENT

BEGIN:VEVENT
DTSTAMP:20091029T185030Z
ORGANIZER;CN=Program Management Organization:MAILTO:
 program-management@example.com
CREATED:20091029T185030Z
UID:libkcal-1919085812.138
LAST-MODIFIED:20091029T185030Z
SUMMARY:F12 Project Wide Release Readiness Meeting
PRIORITY:6
DTSTART:20091111
DTEND:20091112
X-MICROSOFT-CDO-ALLDAYEVENT:TRUE
TRANSP:TRANSPARENT
END:VEVENT

BEGIN:VEVENT
DTSTAMP:20091029T185030Z
ORGANIZER;CN=Program Management Organization:MAILTO:
 program-management@example.com
CREATED:20091029T185030Z
UID:libkcal-1038380663.137
LAST-MODIFIED:20091029T185030Z
SUMMARY:Alpha Project Wide Release Readiness Meeting
PRIORITY:6
DTSTART:20090819
DTEND:20090820
X-MICROSOFT-CDO-ALLDAYEVENT:TRUE
TRANSP:TRANSPARENT
END:VEVENT

BEGIN:VEVENT
DTSTAMP:20091029T185030Z
ORGANIZER;CN=Program Management Organization:MAILTO:
 program-management@example.com
CREATED:20091029T185030Z
UID:libkcal-246511953.138
LAST-MODIFIED:20091029T185030Z
SUMMARY:Beta Release Public Availability
PRIORITY:6
DTSTART:20091020
DTEND:20091021
X-MICROSOFT-CDO-ALLDAYEVENT:TRUE
TRANSP:TRANSPARENT
END:VEVENT

BEGIN:VEVENT
DTSTAMP:20091029T185030Z
ORGANIZER;CN=Program Management Organization:MAILTO:
 program-management@example.com
CREATED:20091029T185030Z
UID:libkcal-31949584.138
LAST-MODIFIED:20091029T185030Z
SUMMARY:Announce final release slogan
PRIORITY:6
DTSTART:20090917
DTEND:20090918
X-MICROSOFT-CDO-ALLDAYEVENT:TRUE
TRANSP:TRANSPARENT
END:VEVENT

BEGIN:VEVENT
DTSTAMP:20091029T185030Z
ORGANIZER;CN=Program Management Organization:MAILTO:
 program-management@example.com
CREATED:20091029T185030Z
UID:libkcal-329093150.139
LAST-MODIFIED:20091029T185030Z
SUMMARY:GA Release
PRIORITY:6
DTSTART:20091117
DTEND:20091118
X-MICROSOFT-CDO-ALLDAYEVENT:TRUE
TRANSP:TRANSPARENT
END:VEVENT

BEGIN:VEVENT
DTSTAMP:20091029T185030Z
ORGANIZER;CN=Program Management Organization:MAILTO:
 program-management@example.com
CREATED:20091029T185030Z
UID:libkcal-1974907724.138
LAST-MODIFIED:20091029T185030Z
SUMMARY:Final (Beta) Freeze: Development Code Complete
PRIORITY:6
DTSTART:20090929
DTEND:20090930
X-MICROSOFT-CDO-ALLDAYEVENT:TRUE
TRANSP:TRANSPARENT
END:VEVENT

BEGIN:VEVENT
DTSTAMP:20091029T185030Z
ORGANIZER;CN=Program Management Organization:MAILTO:
 program-management@example.com
CREATED:20091029T185030Z
UID:libkcal-174121006.137
LAST-MODIFIED:20091029T185030Z
SUMMARY:Alpha Public Availability
PRIORITY:6
DTSTART:20090825
DTEND:20090826
X-MICROSOFT-CDO-ALLDAYEVENT:TRUE
TRANSP:TRANSPARENT
END:VEVENT

END:VCALENDAR


